BEGIN:VCALENDAR
PRODID:-//eluceo/ical//2.0/EN
VERSION:2.0
CALSCALE:GREGORIAN
BEGIN:VEVENT
UID:f764bed01338f01a35497aa8f7dfd1ee
DTSTAMP:20260419T123016Z
SUMMARY:TALLER ONLINE: DEI
DESCRIPTION:Sitio web: https://meet.google.com/zgb-gueh-sqz\nOrador(es): El
 ena ZamoraPte. Comité Distrital DEI
URL:https://rotary2202.es/es/agenda/show/642
DTSTART;TZID=Europe/Zurich:20250312T190000
DTEND;TZID=Europe/Zurich:20250312T210000
LOCATION:Videoconferencia Google Meet
CATEGORIES:Rotary
END:VEVENT
BEGIN:VTIMEZONE
TZID:Europe/Zurich
BEGIN:STANDARD
DTSTART:20250312T190000
TZNAME:CET
TZOFFSETTO:+0100
TZOFFSETFROM:+0100
END:STANDARD
END:VTIMEZONE
END:VCALENDAR
