BEGIN:VCALENDAR
PRODID:-//eluceo/ical//2.0/EN
VERSION:2.0
CALSCALE:GREGORIAN
BEGIN:VEVENT
UID:d241329c68c6ea863ee5432ea18592fd
DTSTAMP:20260425T120156Z
SUMMARY:Conferencia para Jóvenes Lideres
DESCRIPTION:
URL:https://barcelona-alba.rotary2202.es/es/agenda/show/500
DTSTART;TZID=Europe/Zurich:20250219T190000
DTEND;TZID=Europe/Zurich:20250219T190000
LOCATION:UAO CEU\, Carrer de Bellesguard 30\, Salon de Actos - Nuevo Edific
 io
CATEGORIES:Rotary
END:VEVENT
BEGIN:VTIMEZONE
TZID:Europe/Zurich
BEGIN:STANDARD
DTSTART:20250219T190000
TZNAME:CET
TZOFFSETTO:+0100
TZOFFSETFROM:+0100
END:STANDARD
END:VTIMEZONE
END:VCALENDAR
